BEGIN:VCALENDAR
VERSION:2.0
PRODID:-//VIP Tables Bodrum - ECPv6.15.18//NONSGML v1.0//EN
CALSCALE:GREGORIAN
METHOD:PUBLISH
X-ORIGINAL-URL:https://viptablesbodrum.com
X-WR-CALDESC:Events for VIP Tables Bodrum
REFRESH-INTERVAL;VALUE=DURATION:PT1H
X-Robots-Tag:noindex
X-PUBLISHED-TTL:PT1H
BEGIN:VTIMEZONE
TZID:UTC
BEGIN:STANDARD
TZOFFSETFROM:+0000
TZOFFSETTO:+0000
TZNAME:UTC
DTSTART:20220101T000000
END:STANDARD
END:VTIMEZONE
BEGIN:VEVENT
DTSTART;VALUE=DATE:20240420
DTEND;VALUE=DATE:20240423
DTSTAMP:20260425T020814
CREATED:20230801T113411Z
LAST-MODIFIED:20230801T113422Z
UID:9649-1713571200-1713830399@viptablesbodrum.com
SUMMARY:Singapore F1 Grand Prix
DESCRIPTION:Characterized by its breathtaking location\, the Singapore F1 Grand Prix is set against the backdrop of the magnificent Singapore skyline. The iconic night race forms part of the Formula One World Championship\, featuring slick marketing and headliner concerts. Corner after corner\, the track is one of the hardest in the world\, making it one of the most stimulating F1 events to attend.
URL:https://viptablesbodrum.com/event/singapore-f1-grand-prix/
LOCATION:Marina Bay Street Circuit\, Marina Bay\, Singapore
CATEGORIES:Sports
END:VEVENT
BEGIN:VEVENT
DTSTART;VALUE=DATE:20240419
DTEND;VALUE=DATE:20240422
DTSTAMP:20260425T020814
CREATED:20230802T115917Z
LAST-MODIFIED:20230802T115917Z
UID:9790-1713484800-1713743999@viptablesbodrum.com
SUMMARY:China F1 Grand Prix
DESCRIPTION:
URL:https://viptablesbodrum.com/event/china-f1-grand-prix/
LOCATION:Shanghai\, China
CATEGORIES:Sports
END:VEVENT
BEGIN:VEVENT
DTSTART;VALUE=DATE:20240418
DTEND;VALUE=DATE:20240421
DTSTAMP:20260425T020814
CREATED:20230801T112351Z
LAST-MODIFIED:20230801T112829Z
UID:9644-1713398400-1713657599@viptablesbodrum.com
SUMMARY:Salon Prive Supercar Show
DESCRIPTION:Salon Prive is the place to be seen for automobile aficionados and billionaires alike. The prestigious event invites guests to meander through pristine lawns\, converse with the top manufacturers and test-drive the latest supercar models. The event takes place over four days in September. And set against the scintillating backdrop of the historic Blenheim Palace in Oxfordshire\, it epitomizes elegance and class.
URL:https://viptablesbodrum.com/event/salon-prive-supercar-show/
LOCATION:Salon Privé\, Royal Hospital Road\, London\, United Kingdom
CATEGORIES:Entertainment,Sports
END:VEVENT
BEGIN:VEVENT
DTSTART;VALUE=DATE:20240408
DTEND;VALUE=DATE:20240415
DTSTAMP:20260425T020814
CREATED:20230731T120019Z
LAST-MODIFIED:20230731T120046Z
UID:9553-1712534400-1713139199@viptablesbodrum.com
SUMMARY:US Masters Golf Tournament
DESCRIPTION:It appears that gentlemen’s clubs aren’t the only club attracting high-profile visitors. As one of the most expensive sports events in the world\, the US Masters Golf Tournament sees many billionaires floating along the fairways. The tournament is hosted at Augusta National\, an exclusive golf club\, counting Bill Gates and Warren Buffet among its members.
URL:https://viptablesbodrum.com/event/us-masters-golf-tournament/
LOCATION:Augusta National Golf Club\, 2604 Washington Rd\, Augusta\, United States
CATEGORIES:Sports
END:VEVENT
BEGIN:VEVENT
DTSTART;VALUE=DATE:20240405
DTEND;VALUE=DATE:20240408
DTSTAMP:20260425T020814
CREATED:20230802T115717Z
LAST-MODIFIED:20230802T115717Z
UID:9787-1712275200-1712534399@viptablesbodrum.com
SUMMARY:Japan F1 Grand Prix
DESCRIPTION:
URL:https://viptablesbodrum.com/event/japan-f1-grand-prix/
LOCATION:Suzuka\, Japan
CATEGORIES:Sports
END:VEVENT
BEGIN:VEVENT
DTSTART;VALUE=DATE:20240330
DTEND;VALUE=DATE:20240331
DTSTAMP:20260425T020814
CREATED:20230731T111825Z
LAST-MODIFIED:20230731T111914Z
UID:9538-1711756800-1711843199@viptablesbodrum.com
SUMMARY:Dubai World Cup
DESCRIPTION:Perhaps you’re a billionaire horse breeder. Or perhaps you’re more interested in placing bets on who will wear the largest hat. Either way\, the Dubai World Cup is renowned for attracting the rich and famous. From VIP restaurants to exclusive events\, for many the horse race is a networking opportunity not to be missed.
URL:https://viptablesbodrum.com/event/dubai-world-cup/
LOCATION:Meydan Racecourse\, Al Meydan Rd - Nad Al Sheba - Nad Al Sheba 1\, Dubai\, United Arab Emirates
CATEGORIES:Sports
END:VEVENT
BEGIN:VEVENT
DTSTART;VALUE=DATE:20240328
DTEND;VALUE=DATE:20240331
DTSTAMP:20260425T020814
CREATED:20230731T114205Z
LAST-MODIFIED:20230731T114742Z
UID:9543-1711584000-1711843199@viptablesbodrum.com
SUMMARY:Art Basel Hong Kong
DESCRIPTION:Art Basel Hong Kong brings international artists together with over 250 galleries showcasing works from over 4\,000 artists around the world. The open-plan fair is a must-see for art aficionados. And for the world’s richest tycoons\, it’s a hunting ground for new investments. It also doesn’t hurt that the cultural experience is perfectly balanced by epic nights out.
URL:https://viptablesbodrum.com/event/art-basel-hong-kong/
LOCATION:Hong Kong Convention and Exhibition Centre\, 1 Expo Dr\, Wan Chai\, Hong Kong
CATEGORIES:Arts
END:VEVENT
BEGIN:VEVENT
DTSTART;VALUE=DATE:20240322
DTEND;VALUE=DATE:20240325
DTSTAMP:20260425T020814
CREATED:20230802T115508Z
LAST-MODIFIED:20230802T115508Z
UID:9784-1711065600-1711324799@viptablesbodrum.com
SUMMARY:Australia Formula 1 Grand Prix
DESCRIPTION:
URL:https://viptablesbodrum.com/event/australia-formula-1-grand-prix/
LOCATION:Melbourne\, Australia
CATEGORIES:Sports
END:VEVENT
BEGIN:VEVENT
DTSTART;VALUE=DATE:20240307
DTEND;VALUE=DATE:20240310
DTSTAMP:20260425T020814
CREATED:20230802T115328Z
LAST-MODIFIED:20230802T115328Z
UID:9781-1709769600-1710028799@viptablesbodrum.com
SUMMARY:Saudi Arabia Formula 1 Grand Prix
DESCRIPTION:
URL:https://viptablesbodrum.com/event/saudi-arabia-formula-1-grand-prix/
LOCATION:Jeddah\, Saudi Arabia
CATEGORIES:Sports
END:VEVENT
BEGIN:VEVENT
DTSTART;VALUE=DATE:20240229
DTEND;VALUE=DATE:20240303
DTSTAMP:20260425T020814
CREATED:20230802T113912Z
LAST-MODIFIED:20230802T113912Z
UID:9778-1709164800-1709423999@viptablesbodrum.com
SUMMARY:Bahrain Formula 1 Grand Prix
DESCRIPTION:
URL:https://viptablesbodrum.com/event/bahrain-formula-1-grand-prix/
LOCATION:Sakhir\, Bahrain
CATEGORIES:Sports
END:VEVENT
BEGIN:VEVENT
DTSTART;VALUE=DATE:20240226
DTEND;VALUE=DATE:20240306
DTSTAMP:20260425T020814
CREATED:20230802T095146Z
LAST-MODIFIED:20230802T095146Z
UID:9771-1708905600-1709683199@viptablesbodrum.com
SUMMARY:Womenswear Fall/Winter Fashion Week
DESCRIPTION:
URL:https://viptablesbodrum.com/event/womenswear-fall-winter-fashion-week/
LOCATION:Paris\, France
CATEGORIES:Fashion
END:VEVENT
BEGIN:VEVENT
DTSTART;VALUE=DATE:20240219
DTEND;VALUE=DATE:20240227
DTSTAMP:20260425T020814
CREATED:20230731T115430Z
LAST-MODIFIED:20230731T115507Z
UID:9548-1708300800-1708991999@viptablesbodrum.com
SUMMARY:Downhill Skiing
DESCRIPTION:Renowned for being the snowiest time of the year in Aspen\, March is the month where you’ll find the richest people in the world heading for the slopes. Escaping the everyday demands of urban living\, many big-shot celebrities flock to the quaint resort town for a breath of fresh air.
URL:https://viptablesbodrum.com/event/downhill-skiing/
LOCATION:Alpine Skiing Venue\, 470 Solbong-ro\, Daegwallyeong-myeon\, Pyeongchang-gun\, Gangwon-do\, Korea\, Republic of
CATEGORIES:Sports
END:VEVENT
BEGIN:VEVENT
DTSTART;VALUE=DATE:20240218
DTEND;VALUE=DATE:20240219
DTSTAMP:20260425T020814
CREATED:20230731T105616Z
LAST-MODIFIED:20230731T105616Z
UID:9526-1708214400-1708300799@viptablesbodrum.com
SUMMARY:White Turf International Horse Races
DESCRIPTION:Held since 1907\, the White Turf International Horse Races has attracted business tycoons and socialites alike for over a century. The invitation-only event features horse racing on St Moritz frozen lakes\, as well as other sports such as skijoring. Skijoring? Don’t worry we had to google it too—just picture thoroughbreds galloping across a frozen lake and attached to them are humans on skis.
URL:https://viptablesbodrum.com/event/white-turf-international-horse-races-3/
LOCATION:Lake of St. Moritz\, Saint Moritz\, Switzerland
CATEGORIES:Sports
END:VEVENT
BEGIN:VEVENT
DTSTART;VALUE=DATE:20240211
DTEND;VALUE=DATE:20240212
DTSTAMP:20260425T020814
CREATED:20230731T110013Z
LAST-MODIFIED:20230731T110019Z
UID:9528-1707609600-1707695999@viptablesbodrum.com
SUMMARY:Super Bowl
DESCRIPTION:A favorite amongst Jay Z\, the Biebers and Charlize Theron\, the Super Bowl is a major event for many. And whilst the tickets are pricey by nature\, the championship NFL game is less about exclusivity and more about joining in the vibe. Yes\, some billionaires take to their private suites. But many sit in the stadium with the rest of us—oversized hoodies and all.
URL:https://viptablesbodrum.com/event/super-bowl/
LOCATION:Allegiant Stadium\, 3333 Al Davis Way\, Las Vegas\, United States
CATEGORIES:Entertainment
END:VEVENT
BEGIN:VEVENT
DTSTART;VALUE=DATE:20240211
DTEND;VALUE=DATE:20240212
DTSTAMP:20260425T020814
CREATED:20230731T105501Z
LAST-MODIFIED:20230731T105501Z
UID:9524-1707609600-1707695999@viptablesbodrum.com
SUMMARY:White Turf International Horse Races
DESCRIPTION:Held since 1907\, the White Turf International Horse Races has attracted business tycoons and socialites alike for over a century. The invitation-only event features horse racing on St Moritz frozen lakes\, as well as other sports such as skijoring. Skijoring? Don’t worry we had to google it too—just picture thoroughbreds galloping across a frozen lake and attached to them are humans on skis.
URL:https://viptablesbodrum.com/event/white-turf-international-horse-races-2/
LOCATION:Lake of St. Moritz\, Saint Moritz\, Switzerland
CATEGORIES:Sports
END:VEVENT
BEGIN:VEVENT
DTSTART;VALUE=DATE:20240208
DTEND;VALUE=DATE:20240209
DTSTAMP:20260425T020814
CREATED:20230731T110820Z
LAST-MODIFIED:20230731T111221Z
UID:9533-1707350400-1707436799@viptablesbodrum.com
SUMMARY:Vienna Opera Ball
DESCRIPTION:The Vienna Opera Ball is one of the most glamorous balls of the season. Paying homage to centuries of tradition\, the dress code is strictly white tie and tails for men and floor-length gowns for women. After the debutantes’ iconic dance\, the dance floor is open to everyone until 5 o’clock in the morning.
URL:https://viptablesbodrum.com/event/vienna-opera-ball/
LOCATION:Vienna State Opera House\, Opernring 2\, 1010 Wien\, Austria
CATEGORIES:Entertainment
END:VEVENT
BEGIN:VEVENT
DTSTART;VALUE=DATE:20240204
DTEND;VALUE=DATE:20240205
DTSTAMP:20260425T020814
CREATED:20230731T105246Z
LAST-MODIFIED:20230731T105246Z
UID:9521-1707004800-1707091199@viptablesbodrum.com
SUMMARY:White Turf International Horse Races
DESCRIPTION:Held since 1907\, the White Turf International Horse Races has attracted business tycoons and socialites alike for over a century. The invitation-only event features horse racing on St Moritz frozen lakes\, as well as other sports such as skijoring. Skijoring? Don’t worry we had to google it too—just picture thoroughbreds galloping across a frozen lake and attached to them are humans on skis.
URL:https://viptablesbodrum.com/event/white-turf-international-horse-races/
LOCATION:Lake of St. Moritz\, Saint Moritz\, Switzerland
CATEGORIES:Sports
END:VEVENT
BEGIN:VEVENT
DTSTART;VALUE=DATE:20240126
DTEND;VALUE=DATE:20240129
DTSTAMP:20260425T020814
CREATED:20230731T104724Z
LAST-MODIFIED:20230731T104740Z
UID:9516-1706227200-1706486399@viptablesbodrum.com
SUMMARY:St. Moritz Polo World Cup on Snow
DESCRIPTION:A favorite amongst royals\, Polo has always been an elite sport. But couple that with St Moritz’s opulent Alpine resorts and it’s no surprise that you’ll find many of the world’s richest people sipping on Perrier-Jouët champagne beneath the Swiss slopes. And besides enjoying the sport\, gourmet food selections\, exclusive social events\, and five-star resorts are the ordre du jour.
URL:https://viptablesbodrum.com/event/st-moritz-polo-world-cup-on-snow/
LOCATION:Lake of St. Moritz\, Saint Moritz\, Switzerland
CATEGORIES:Sports
END:VEVENT
BEGIN:VEVENT
DTSTART;VALUE=DATE:20240118
DTEND;VALUE=DATE:20240129
DTSTAMP:20260425T020814
CREATED:20230731T103456Z
LAST-MODIFIED:20230731T103505Z
UID:9510-1705536000-1706486399@viptablesbodrum.com
SUMMARY:Sundance Film Festival
DESCRIPTION:Whether you’re a director\, actor or just someone with cash lying around\, the Sundance Film Festival is a great opportunity to mingle with A-listers and celebrate film. Naturally\, you’ll find the rich and famous at the celebrity lounges\, partying with the who’s who in the industry and attending exclusive night screenings.
URL:https://viptablesbodrum.com/event/sundance-film-festival/
LOCATION:Sundance Resort\, Park City\, Utah\, United States
CATEGORIES:Entertainment
END:VEVENT
BEGIN:VEVENT
DTSTART;VALUE=DATE:20240118
DTEND;VALUE=DATE:20240122
DTSTAMP:20260425T020814
CREATED:20230731T102336Z
LAST-MODIFIED:20230731T102727Z
UID:9504-1705536000-1705881599@viptablesbodrum.com
SUMMARY:Art Stage – Singapore
DESCRIPTION:A rich person’s passtime\, collecting art is both a hobby and an investment for many billionaires. And where do they find the latest avant-garde artworks? At Art Stage in Singapore\, of course. Attracting the world’s most sought-after contemporary artists\, the much-anticipated festival is an art collector’s paradise—especially if you’ve got a deep pocket.
URL:https://viptablesbodrum.com/event/art-stage-singapore/
LOCATION:Sands Expo and Convention Centre\, Singapore\, 10 Bayfront Ave\, Singapore 018956\, Singapore
CATEGORIES:Arts
END:VEVENT
BEGIN:VEVENT
DTSTART;VALUE=DATE:20240116
DTEND;VALUE=DATE:20240122
DTSTAMP:20260425T020814
CREATED:20230802T094605Z
LAST-MODIFIED:20230802T094617Z
UID:9696-1705363200-1705881599@viptablesbodrum.com
SUMMARY:Menswear Fall/Winter Fashion Week
DESCRIPTION:
URL:https://viptablesbodrum.com/event/menswear-fall-winter-fashion-week/
LOCATION:Paris\, France
CATEGORIES:Fashion
END:VEVENT
BEGIN:VEVENT
DTSTART;VALUE=DATE:20231126
DTEND;VALUE=DATE:20231127
DTSTAMP:20260425T020814
CREATED:20230504T105639Z
LAST-MODIFIED:20230707T145742Z
UID:4387-1700956800-1701043199@viptablesbodrum.com
SUMMARY:Abu Dhabi Grand Prix
DESCRIPTION:The Abu Dhabi Grand Prix is a Formula One motor racing event. It was announced in early 2007 at the Abu Dhabi F1 Festival in the United Arab Emirates.
URL:https://viptablesbodrum.com/event/abu-dhabi-grand-prix/
CATEGORIES:Grand Prix,Hospitality,Sports
ATTACH;FMTTYPE=image/jpeg:https://viptablesbodrum.com/wp-content/uploads/2023/05/NMQFL3RNW5OKTJ75UAOBTBLNL4.jpg
END:VEVENT
BEGIN:VEVENT
DTSTART;VALUE=DATE:20231118
DTEND;VALUE=DATE:20231119
DTSTAMP:20260425T020814
CREATED:20230504T105518Z
LAST-MODIFIED:20230707T145742Z
UID:4384-1700265600-1700351999@viptablesbodrum.com
SUMMARY:Las Vegas Grand Prix
DESCRIPTION:The Las Vegas Grand Prix is a planned Formula One Grand Prix due to form part of the 2023 Formula One World Championship\, with the event taking place in Las Vegas\, Nevada\, on a temporary street circuit including the Las Vegas Strip.
URL:https://viptablesbodrum.com/event/las-vegas-grand-prix/
CATEGORIES:Grand Prix,Hospitality,paddock,Sports
END:VEVENT
BEGIN:VEVENT
DTSTART;VALUE=DATE:20231105
DTEND;VALUE=DATE:20231106
DTSTAMP:20260425T020814
CREATED:20230504T105355Z
LAST-MODIFIED:20230707T145743Z
UID:4381-1699142400-1699228799@viptablesbodrum.com
SUMMARY:Brazil Grand Prix
DESCRIPTION:The Brazilian Grand Prix\, currently held under the name São Paulo Grand Prix\, is a Formula One championship race which is currently held at the Autódromo José Carlos Pace in Interlagos neighbourhood\, Cidade Dutra\, São Paulo.
URL:https://viptablesbodrum.com/event/brazil-grand-prix/
CATEGORIES:Sports
END:VEVENT
BEGIN:VEVENT
DTSTART;VALUE=DATE:20231029
DTEND;VALUE=DATE:20231030
DTSTAMP:20260425T020814
CREATED:20230504T105234Z
LAST-MODIFIED:20230707T145743Z
UID:4378-1698537600-1698623999@viptablesbodrum.com
SUMMARY:Mexico Grand Prix
DESCRIPTION:The Mexican Grand Prix\, currently held under the name Mexico City Grand Prix\, is a motor racing event held at the Autódromo Hermanos Rodríguez in Mexico City.
URL:https://viptablesbodrum.com/event/mexico-grand-prix/
CATEGORIES:Sports
END:VEVENT
BEGIN:VEVENT
DTSTART;TZID=UTC:20231028T234500
DTEND;TZID=UTC:20231029T063000
DTSTAMP:20260425T020814
CREATED:20230710T124406Z
LAST-MODIFIED:20230803T143336Z
UID:8761-1698536700-1698561000@viptablesbodrum.com
SUMMARY:Trip Closing Party
DESCRIPTION:Trip is back for its second season at Club Chinois after the success of its parties in October 2022. It’s a profound new journey into sound and tripped-out visions: “from Ibiza\, for Ibiza” as the team describes it\, and that’s definitely the most apt description we could give this bespoke new party. And now Trip is back for 2023\, and there will be three parties in April and three in May.\nSurreal\, psychedelic and trippy\, together with a soundtrack provided by some of the best underground DJs in the world. \nFollow trip @tripibizaofficial \nThis is an 18+ event
URL:https://viptablesbodrum.com/event/trip-closing-party/
LOCATION:Club Chinois\, Passeig Joan Carles I\, 17\, 07800 Eivissa\, Illes Balears\, Ibiza\, Spain
CATEGORIES:Music
ATTACH;FMTTYPE=image/jpeg:https://viptablesbodrum.com/wp-content/uploads/2023/07/697184df-d981-441f-9dd0-b740a5048dc3-syBAva.tmp_.jpg
END:VEVENT
BEGIN:VEVENT
DTSTART;VALUE=DATE:20231022
DTEND;VALUE=DATE:20231023
DTSTAMP:20260425T020814
CREATED:20230504T105052Z
LAST-MODIFIED:20230707T145744Z
UID:4375-1697932800-1698019199@viptablesbodrum.com
SUMMARY:USA Grand Prix
DESCRIPTION:The United States Grand Prix is a motor racing event that has been held on and off since 1908\, when it was known as the American Grand Prize.
URL:https://viptablesbodrum.com/event/usa-grand-prix/
CATEGORIES:Sports
END:VEVENT
BEGIN:VEVENT
DTSTART;TZID=UTC:20231021T234500
DTEND;TZID=UTC:20231022T063000
DTSTAMP:20260425T020814
CREATED:20230710T124405Z
LAST-MODIFIED:20230803T143346Z
UID:8760-1697931900-1697956200@viptablesbodrum.com
SUMMARY:TRIP
DESCRIPTION:Trip is back for its second season at Club Chinois after the success of its parties in October 2022. It’s a profound new journey into sound and tripped-out visions: “from Ibiza\, for Ibiza” as the team describes it\, and that’s definitely the most apt description we could give this bespoke new party. And now Trip is back for 2023\, and there will be three parties in April and three in May.\nSurreal\, psychedelic and trippy\, together with a soundtrack provided by some of the best underground DJs in the world. \nOn Friday 14th April expect a line-up that is not to be missed… \nFollow trip @tripibizaofficial \nThis is an 18+ event
URL:https://viptablesbodrum.com/event/trip-19/
LOCATION:Club Chinois\, Passeig Joan Carles I\, 17\, 07800 Eivissa\, Illes Balears\, Ibiza\, Spain
CATEGORIES:Music
ATTACH;FMTTYPE=image/jpeg:https://viptablesbodrum.com/wp-content/uploads/2023/07/90454881-1d44-413b-80ff-94e10b47a2a8-X68xXd.tmp_.jpg
END:VEVENT
BEGIN:VEVENT
DTSTART;TZID=UTC:20231014T234500
DTEND;TZID=UTC:20231015T063000
DTSTAMP:20260425T020814
CREATED:20230710T124353Z
LAST-MODIFIED:20230803T143637Z
UID:8759-1697327100-1697351400@viptablesbodrum.com
SUMMARY:TRIP
DESCRIPTION:Trip is back for its second season at Club Chinois after the success of its parties in October 2022. It’s a profound new journey into sound and tripped-out visions: “from Ibiza\, for Ibiza” as the team describes it\, and that’s definitely the most apt description we could give this bespoke new party. And now Trip is back for 2023\, and there will be three parties in April and three in May.\nSurreal\, psychedelic and trippy\, together with a soundtrack provided by some of the best underground DJs in the world. \nFollow trip @tripibizaofficial \nThis is an 18+ event
URL:https://viptablesbodrum.com/event/trip-18/
LOCATION:Club Chinois\, Passeig Joan Carles I\, 17\, 07800 Eivissa\, Illes Balears\, Ibiza\, Spain
CATEGORIES:Music
ATTACH;FMTTYPE=image/jpeg:https://viptablesbodrum.com/wp-content/uploads/2023/07/90454881-1d44-413b-80ff-94e10b47a2a8-X68xXd.tmp_.jpg
END:VEVENT
BEGIN:VEVENT
DTSTART;TZID=UTC:20231011T234500
DTEND;TZID=UTC:20231012T063000
DTSTAMP:20260425T020814
CREATED:20230710T124353Z
LAST-MODIFIED:20230803T143646Z
UID:8758-1697067900-1697092200@viptablesbodrum.com
SUMMARY:The Ritual with Anané and Louie Vega Closing
DESCRIPTION:Gracing Club Chinois every Wednesday from 7th June and 11th October are Nominees and Grammy Winner Anané & Louie Vega. Cape Verdian DJ / Singer / Songwriter Anané Vega and Dj Louie Vega one half of production duo Masters At Work each bring cutting edge productions\, global dance music fused with afro house and tech with a sprinkle of old school. Creating their own scene and lane over the years in Ibiza and globally since 2011\, the powerhouse couple are ready to bring together their family of talented friends.\nThis is an 18+ event
URL:https://viptablesbodrum.com/event/the-ritual-with-anane-and-louie-vega-closing/
LOCATION:Club Chinois\, Passeig Joan Carles I\, 17\, 07800 Eivissa\, Illes Balears\, Ibiza\, Spain
CATEGORIES:Music
ATTACH;FMTTYPE=image/jpeg:https://viptablesbodrum.com/wp-content/uploads/2023/07/f3404232-a0ac-4217-94c1-309df209b15b-JwmxOU.tmp_-scaled.jpg
END:VEVENT
END:VCALENDAR