BEGIN:VCALENDAR
VERSION:2.0
PRODID:-//VIP Tables Bodrum - ECPv6.15.18//NONSGML v1.0//EN
CALSCALE:GREGORIAN
METHOD:PUBLISH
X-WR-CALNAME:VIP Tables Bodrum
X-ORIGINAL-URL:https://viptablesbodrum.com
X-WR-CALDESC:Events for VIP Tables Bodrum
REFRESH-INTERVAL;VALUE=DURATION:PT1H
X-Robots-Tag:noindex
X-PUBLISHED-TTL:PT1H
BEGIN:VTIMEZONE
TZID:UTC
BEGIN:STANDARD
TZOFFSETFROM:+0000
TZOFFSETTO:+0000
TZNAME:UTC
DTSTART:20220101T000000
END:STANDARD
END:VTIMEZONE
BEGIN:VEVENT
DTSTART;TZID=UTC:20230916T233000
DTEND;TZID=UTC:20230916T233000
DTSTAMP:20260425T140447
CREATED:20230710T131618Z
LAST-MODIFIED:20230803T144746Z
UID:8867-1694907000-1694907000@viptablesbodrum.com
SUMMARY:Black Coffee
DESCRIPTION:Black Coffee continues his groundbreaking Saturday night residency in the Theatre. The global house innovator will fill the futuristic room with his refined Afropolitan house\, immersive production and unexpected special guests.  The Club room will host a truly mystical musical experience as it reverberates with the sounds of Damian Lazarus. Join the Crosstown Rebels boss on a kaleidoscopic journey through the cosmic side of house and techno.   The cutting-edge sounds of our Saturday nights are redefining the clubbing experience.
URL:https://viptablesbodrum.com/event/black-coffee-14/
LOCATION:Pacha Nightclub\, Av. 8 d'Agost\, 07800 Eivissa\, Illes Balears\, Ibiza\, Spain
CATEGORIES:Music
ATTACH;FMTTYPE=image/jpeg:https://viptablesbodrum.com/wp-content/uploads/2023/07/6c2efc0626e18e13e7936af8cc06aa5cd4f65534-6000x4000-d14dcR.tmp_-scaled.jpg
END:VEVENT
BEGIN:VEVENT
DTSTART;TZID=UTC:20230916T230000
DTEND;TZID=UTC:20230916T230000
DTSTAMP:20260425T140447
CREATED:20230707T145116Z
LAST-MODIFIED:20230707T145642Z
UID:8064-1694905200-1694905200@viptablesbodrum.com
SUMMARY:elrow Amnesia
DESCRIPTION:elrow returns to Amnesia to celebrate its wildest and most creative year. The residency will start next Saturday May 27th and will continue until September 30th. 19 dates full of music\, shows\, fun and lots of confetti!
URL:https://viptablesbodrum.com/event/elrow-amnesia-14/
LOCATION:Amnesia\, Ctra. Ibiza a San Antonio\, Km 5\, 07816\, Ibiza\, Spain
CATEGORIES:Music
END:VEVENT
BEGIN:VEVENT
DTSTART;TZID=UTC:20230915T234500
DTEND;TZID=UTC:20230916T063000
DTSTAMP:20260425T140447
CREATED:20230710T123518Z
LAST-MODIFIED:20230803T144746Z
UID:8734-1694821500-1694845800@viptablesbodrum.com
SUMMARY:Pablo Fierro presents We're Here
DESCRIPTION:Founded by Pablo Fierro in 2019\, WE’RE HERE has become famous for hosting rip-roaring\, unforgettable parties the world over. After a sensational 2022 residency\, WE’RE HERE returns to Club Chinois from 26th May to 29th September\, bringing you cinematic visuals and exquisite sounds from around the globe.\nPablo Fierro is a globally lauded Spanish DJ and music producer known for his distinctive blend of house music\, jazz rhythm and soul-searing sounds. Hailing from the Canary Islands\, Fierro founded his own label\, Vida Records\, in 2006\, building the imprint to garner widespread recognition through its innovative sound and exceptional release roster. \nThis is an 18+ event
URL:https://viptablesbodrum.com/event/pablo-fierro-presents-were-here-14/
LOCATION:Club Chinois\, Passeig Joan Carles I\, 17\, 07800 Eivissa\, Illes Balears\, Ibiza\, Spain
CATEGORIES:Music
ATTACH;FMTTYPE=image/jpeg:https://viptablesbodrum.com/wp-content/uploads/2023/07/c62b4c93-df7e-494f-bdd5-fb41c9a6578c-zxQ66A.tmp_-scaled.jpg
END:VEVENT
BEGIN:VEVENT
DTSTART;TZID=UTC:20230915T233000
DTEND;TZID=UTC:20230915T233000
DTSTAMP:20260425T140447
CREATED:20230710T131606Z
LAST-MODIFIED:20230803T144746Z
UID:8866-1694820600-1694820600@viptablesbodrum.com
SUMMARY:David Guetta & Morten Present Future Rave
DESCRIPTION:David Guetta GRAMMY-winner and global music kingpin David Guetta returns with more of the magic that made summer 2022 one of his best ever on the island.  The peerless Frenchman will host 18 weekly FUTURE RAVE dates\, every Friday from June 2nd\, joined by Danish DJ and Producer Morten for a selection of these dates.  Taking over the Club Room is Italian DJ collective Meduza\, the trio behind 5 global smash hits\, “Piece Of Your Heart”\, “Heart”\, “Lose Control”\, “Paradise”\, and more\,  and an artist that continues to light up dance floors around the world with tracks like “Ferrari” and “You Give Me A Feeling” Friday at Hï Ibiza
URL:https://viptablesbodrum.com/event/david-guetta-morten-present-future-rave-13/
LOCATION:Pacha Nightclub\, Av. 8 d'Agost\, 07800 Eivissa\, Illes Balears\, Ibiza\, Spain
CATEGORIES:Music
ATTACH;FMTTYPE=image/jpeg:https://viptablesbodrum.com/wp-content/uploads/2023/07/85bd4cb16ac1868509d9a6aca0bdb7338a982266-4800x6000-akaxzf.tmp_-scaled.jpg
END:VEVENT
BEGIN:VEVENT
DTSTART;TZID=UTC:20230914T234500
DTEND;TZID=UTC:20230915T063000
DTSTAMP:20260425T140447
CREATED:20230710T123517Z
LAST-MODIFIED:20230803T144747Z
UID:8733-1694735100-1694759400@viptablesbodrum.com
SUMMARY:Niiwa Residency
DESCRIPTION:NiiWA\, sounds of silk\, brings its soft caress to the beautiful newly refurbished Club Chinois every Thursday this summer opening on the 25th May.\nThe latest birth of a new project from the underground artistic movement Ritual Collective. Embodying the sounds of the underbelly of Berlin immersed in a dystopian theatrical step into an ancient future. \nPrepare to witness the new age of clubbing. \nThis is an 18+ event
URL:https://viptablesbodrum.com/event/niiwa-residency-14/
LOCATION:Club Chinois\, Passeig Joan Carles I\, 17\, 07800 Eivissa\, Illes Balears\, Ibiza\, Spain
CATEGORIES:Music
ATTACH;FMTTYPE=image/jpeg:https://viptablesbodrum.com/wp-content/uploads/2023/07/a98f6e76-8c52-40d5-bc42-8221ee688ff8-NmKKp0.tmp_.jpg
END:VEVENT
BEGIN:VEVENT
DTSTART;TZID=UTC:20230914T233000
DTEND;TZID=UTC:20230914T233000
DTSTAMP:20260425T140447
CREATED:20230710T131605Z
LAST-MODIFIED:20230803T144747Z
UID:8865-1694734200-1694734200@viptablesbodrum.com
SUMMARY:Tale Of Us Present Afterlife
DESCRIPTION:World-renowned duo Tale Of Us return to Hï Ibiza with their Afterlife residency\, kicking off on Thursday 22nd June. With cutting edge tailor-made production\, immersive visuals\, and top-level talents from across the house and techno spectrum\, the boundary-pushing event has defined the melodic techno landscape over the years\, and there is no more authentic place to experience it than their White Isle home at Hï Ibiza.  To close out the season\, Tale Of Us will present a day into night odyssey across Ushuaïa and Hï Ibiza for the final event on 5th October.
URL:https://viptablesbodrum.com/event/tale-of-us-present-afterlife-13/
LOCATION:Pacha Nightclub\, Av. 8 d'Agost\, 07800 Eivissa\, Illes Balears\, Ibiza\, Spain
CATEGORIES:Music
ATTACH;FMTTYPE=image/jpeg:https://viptablesbodrum.com/wp-content/uploads/2023/07/ecbb684527dd250c0e23c905276f3be4d50033b6-4800x6000-hY0c7u.tmp_-scaled.jpg
END:VEVENT
BEGIN:VEVENT
DTSTART;TZID=UTC:20230913T234500
DTEND;TZID=UTC:20230914T063000
DTSTAMP:20260425T140447
CREATED:20230710T123517Z
LAST-MODIFIED:20230803T144748Z
UID:8732-1694648700-1694673000@viptablesbodrum.com
SUMMARY:The Ritual with Anané and Louie Vega
DESCRIPTION:Gracing Club Chinois every Wednesday from 7th June and 4th October are Nominees and Grammy Winner Anané & Louie Vega. Cape Verdian DJ / Singer / Songwriter Anané Vega and Dj Louie Vega one half of production duo Masters At Work each bring cutting edge productions\, global dance music fused with afro house and tech with a sprinkle of old school. Creating their own scene and lane over the years in Ibiza and globally since 2011\, the powerhouse couple are ready to bring together their family of talented friends.\nThis is an 18+ event
URL:https://viptablesbodrum.com/event/the-ritual-with-anane-and-louie-vega-12/
LOCATION:Club Chinois\, Passeig Joan Carles I\, 17\, 07800 Eivissa\, Illes Balears\, Ibiza\, Spain
CATEGORIES:Music
ATTACH;FMTTYPE=image/jpeg:https://viptablesbodrum.com/wp-content/uploads/2023/07/f3404232-a0ac-4217-94c1-309df209b15b-JwmxOU.tmp_-scaled.jpg
END:VEVENT
BEGIN:VEVENT
DTSTART;TZID=UTC:20230913T233000
DTEND;TZID=UTC:20230913T233000
DTSTAMP:20260425T140447
CREATED:20230710T131605Z
LAST-MODIFIED:20230803T144749Z
UID:8864-1694647800-1694647800@viptablesbodrum.com
SUMMARY:FISHER
DESCRIPTION:After a pioneering residency last season that pulled record numbers of visitors from around the globe\, FISHER returns once again\, to make his home at Hï Ibiza every Wednesday.  Also returning this year is the Brazilian heavyweight Vintage Culture\, who hosts the Club room for a second year running  Opening June 7th for 17 weeks\, the dream team pairing will take over the Theatre and Club room respectively.
URL:https://viptablesbodrum.com/event/fisher-14/
LOCATION:Pacha Nightclub\, Av. 8 d'Agost\, 07800 Eivissa\, Illes Balears\, Ibiza\, Spain
CATEGORIES:Music
ATTACH;FMTTYPE=image/jpeg:https://viptablesbodrum.com/wp-content/uploads/2023/07/5b0efc634095cd9cc2eda86553e28c039f4f9eb8-6000x4000-oeRGs3.tmp_-scaled.jpg
END:VEVENT
BEGIN:VEVENT
DTSTART;TZID=UTC:20230913T223000
DTEND;TZID=UTC:20230913T223000
DTSTAMP:20260425T140447
CREATED:20230707T145115Z
LAST-MODIFIED:20230707T145641Z
UID:8063-1694644200-1694644200@viptablesbodrum.com
SUMMARY:Paradise at Amnesia
DESCRIPTION:Paradise presents Night of The Jaguar… where the jungle comes alive this season with its world of vibrant acid hued wildlife and supernatural night visions. Join Jamie Jones plus a host of artists every Wednesday at Amnesia.
URL:https://viptablesbodrum.com/event/paradise-at-amnesia-13/
LOCATION:Amnesia\, Ctra. Ibiza a San Antonio\, Km 5\, 07816\, Ibiza\, Spain
CATEGORIES:Music
END:VEVENT
BEGIN:VEVENT
DTSTART;TZID=UTC:20230912T235900
DTEND;TZID=UTC:20230912T235900
DTSTAMP:20260425T140447
CREATED:20230707T145115Z
LAST-MODIFIED:20230707T145641Z
UID:8062-1694563140-1694563140@viptablesbodrum.com
SUMMARY:Steve Aoki & Timmy Trumpet
DESCRIPTION:Join us this summer as Timmy Trumpet and Steve Aoki take over Amnesia for an unforgettable party experience and exhilarating show. Don’t miss it on Tuesdays from 4th\, 11th\,18th July and 12th September.
URL:https://viptablesbodrum.com/event/steve-aoki-timmy-trumpet-4/
LOCATION:Amnesia\, Ctra. Ibiza a San Antonio\, Km 5\, 07816\, Ibiza\, Spain
CATEGORIES:Music
END:VEVENT
BEGIN:VEVENT
DTSTART;TZID=UTC:20230912T234500
DTEND;TZID=UTC:20230913T063000
DTSTAMP:20260425T140447
CREATED:20230710T123318Z
LAST-MODIFIED:20230803T144749Z
UID:8731-1694562300-1694586600@viptablesbodrum.com
SUMMARY:Ida Engberg presents Mystik
DESCRIPTION:Ida Engberg is back every Tuesday at Club Chinois for a 18-week residency after the success of 2022. We’re pleased to announce this will make Ida the first female to have a full Summer residency with her own brand in the history of Ibiza.\nEach week expect exciting line-ups\, world-class acts and entertainment led by Ida. \nThis is an 18+ event
URL:https://viptablesbodrum.com/event/ida-engberg-presents-mystik-13/
LOCATION:Club Chinois\, Passeig Joan Carles I\, 17\, 07800 Eivissa\, Illes Balears\, Ibiza\, Spain
CATEGORIES:Music
ATTACH;FMTTYPE=image/jpeg:https://viptablesbodrum.com/wp-content/uploads/2023/07/880953e0-321e-4064-995d-da0a2bead48c-DRgAXE.tmp_.jpg
END:VEVENT
BEGIN:VEVENT
DTSTART;TZID=UTC:20230912T233000
DTEND;TZID=UTC:20230912T233000
DTSTAMP:20260425T140447
CREATED:20230710T131604Z
LAST-MODIFIED:20230803T144750Z
UID:8863-1694561400-1694561400@viptablesbodrum.com
SUMMARY:The Martinez Brothers
DESCRIPTION:The Martinez Brothers return to the Theatre on Tuesdays for their second season bringing their distinctive New York house sound for this pioneering residency. There is no finer night to experience the freshest house cuts and world-class special guests on the island.  Spanish techno figurehead Paco Osuna resumes his vibrant Club room residency. The cutting-edge techno selections of Paco and his respected special guests create a new blueprint for a more sophisticated side of electronic music.  Tuesday nights at Hï Ibiza celebrate the forefront of house and techno.
URL:https://viptablesbodrum.com/event/the-martinez-brothers-13/
LOCATION:Pacha Nightclub\, Av. 8 d'Agost\, 07800 Eivissa\, Illes Balears\, Ibiza\, Spain
CATEGORIES:Music
ATTACH;FMTTYPE=image/jpeg:https://viptablesbodrum.com/wp-content/uploads/2023/07/a30ad4f8ff56ce6242205f16dfe6b077346391fd-6000x4000-RBLQrK.tmp_-scaled.jpg
END:VEVENT
BEGIN:VEVENT
DTSTART;TZID=UTC:20230911T230000
DTEND;TZID=UTC:20230911T230000
DTSTAMP:20260425T140447
CREATED:20230707T145111Z
LAST-MODIFIED:20230707T145640Z
UID:8061-1694473200-1694473200@viptablesbodrum.com
SUMMARY:Amnesia Presents
DESCRIPTION:Mondays at Amnesia will continue to be the talk of the island with the return of Gorgon City\, Sonny Fodera & Danny Howard for their second year at our club. Amnesia Presents is the ultimate way to kick off the week in Ibiza\, running for 15 dates from Monday June 19th until September 25th.
URL:https://viptablesbodrum.com/event/amnesia-presents-13/
LOCATION:Amnesia\, Ctra. Ibiza a San Antonio\, Km 5\, 07816\, Ibiza\, Spain
CATEGORIES:Music
END:VEVENT
BEGIN:VEVENT
DTSTART;TZID=UTC:20230911T000000
DTEND;TZID=UTC:20230912T063000
DTSTAMP:20260425T140447
CREATED:20230710T123318Z
LAST-MODIFIED:20230803T144750Z
UID:8730-1694390400-1694500200@viptablesbodrum.com
SUMMARY:La Troya Residency
DESCRIPTION:Every Monday from 15th May until 9th October we welcome the best polysexual party on the island La Troya to Club Chinois. Created by Brasilio de Oliveira\, the island’s longest running\, most respected and loved promoter\, La Troya originated in the 70s at Ibiza’s KU discotheque and has since become one of the most famous and celebrated LGBT-friendly parties in the world.\nThis is an 18+ event
URL:https://viptablesbodrum.com/event/la-troya-residency-13/
LOCATION:Club Chinois\, Passeig Joan Carles I\, 17\, 07800 Eivissa\, Illes Balears\, Ibiza\, Spain
CATEGORIES:Music
ATTACH;FMTTYPE=image/jpeg:https://viptablesbodrum.com/wp-content/uploads/2023/07/9392d172-1d4e-4de7-99ea-adce8c633bfd-Inih1M.tmp_.jpg
END:VEVENT
BEGIN:VEVENT
DTSTART;TZID=UTC:20230910T234500
DTEND;TZID=UTC:20230911T063000
DTSTAMP:20260425T140447
CREATED:20230710T123317Z
LAST-MODIFIED:20230803T144750Z
UID:8728-1694389500-1694413800@viptablesbodrum.com
SUMMARY:Franky Wah presents SHÈN
DESCRIPTION:Franky Wah presents This Is SHÈN at Club Chinois every Sunday from 18th June – 1st October.\nEach week expect exciting line-ups\, world-class acts and entertainment led by Franky. \nLine-up: \nFranky Wah \nMiss Monique \nYulia Niko \nThis is an 18+ event
URL:https://viptablesbodrum.com/event/franky-wah-presents-shen-12/
LOCATION:Club Chinois\, Passeig Joan Carles I\, 17\, 07800 Eivissa\, Illes Balears\, Ibiza\, Spain
CATEGORIES:Music
ATTACH;FMTTYPE=image/jpeg:https://viptablesbodrum.com/wp-content/uploads/2023/07/986b1dcd-b1e4-425a-bae3-8c1d83c8da8f-IgqCYr.tmp_.jpg
END:VEVENT
BEGIN:VEVENT
DTSTART;TZID=UTC:20230910T233000
DTEND;TZID=UTC:20230910T233000
DTSTAMP:20260425T140447
CREATED:20230710T131603Z
LAST-MODIFIED:20230803T144751Z
UID:8862-1694388600-1694388600@viptablesbodrum.com
SUMMARY:Glitterbox
DESCRIPTION:Join the Glitterbox team and their euphoric mix of disco\, house and classic dance anthems every Sunday from May 7th. Expect standout lineups\, big-name guests\, a multicoloured carnival of production and the most inclusive crowd on the island.  Experience the modern sounds of disco every Sunday at Glitterbox.
URL:https://viptablesbodrum.com/event/glitterbox-13/
LOCATION:Pacha Nightclub\, Av. 8 d'Agost\, 07800 Eivissa\, Illes Balears\, Ibiza\, Spain
CATEGORIES:Music
ATTACH;FMTTYPE=image/jpeg:https://viptablesbodrum.com/wp-content/uploads/2023/07/48e4e729b6decd99c5b32008973dcb829c11ba88-1220x703-MxMpY4.tmp_.jpg
END:VEVENT
BEGIN:VEVENT
DTSTART;TZID=UTC:20230910T230000
DTEND;TZID=UTC:20230910T230000
DTSTAMP:20260425T140447
CREATED:20230707T145110Z
LAST-MODIFIED:20230707T145640Z
UID:8060-1694386800-1694386800@viptablesbodrum.com
SUMMARY:Pyramid
DESCRIPTION:Pyramid returns every Sunday from June 11th to October 8th with a lineup full of electronic talents long with some special surprise acts that will blow your mind.
URL:https://viptablesbodrum.com/event/pyramid-13/
LOCATION:Amnesia\, Ctra. Ibiza a San Antonio\, Km 5\, 07816\, Ibiza\, Spain
CATEGORIES:Music
END:VEVENT
BEGIN:VEVENT
DTSTART;TZID=UTC:20230909T234500
DTEND;TZID=UTC:20230910T063000
DTSTAMP:20260425T140447
CREATED:20230710T123316Z
LAST-MODIFIED:20230803T144751Z
UID:8727-1694303100-1694327400@viptablesbodrum.com
SUMMARY:TRIP
DESCRIPTION:Trip is back for its second season at Club Chinois after the success of its parties in October 2022. It’s a profound new journey into sound and tripped-out visions: “from Ibiza\, for Ibiza” as the team describes it\, and that’s definitely the most apt description we could give this bespoke new party. And now Trip is back for 2023\, and there will be three parties in April and three in May.\nSurreal\, psychedelic and trippy\, together with a soundtrack provided by some of the best underground DJs in the world. \nFollow trip @tripibizaofficial \nThis is an 18+ event
URL:https://viptablesbodrum.com/event/trip-13/
LOCATION:Club Chinois\, Passeig Joan Carles I\, 17\, 07800 Eivissa\, Illes Balears\, Ibiza\, Spain
CATEGORIES:Music
ATTACH;FMTTYPE=image/jpeg:https://viptablesbodrum.com/wp-content/uploads/2023/07/90454881-1d44-413b-80ff-94e10b47a2a8-X68xXd.tmp_.jpg
END:VEVENT
BEGIN:VEVENT
DTSTART;TZID=UTC:20230909T233000
DTEND;TZID=UTC:20230909T233000
DTSTAMP:20260425T140447
CREATED:20230710T131405Z
LAST-MODIFIED:20230803T144752Z
UID:8861-1694302200-1694302200@viptablesbodrum.com
SUMMARY:Black Coffee
DESCRIPTION:Black Coffee continues his groundbreaking Saturday night residency in the Theatre. The global house innovator will fill the futuristic room with his refined Afropolitan house\, immersive production and unexpected special guests.  The Club room will host a truly mystical musical experience as it reverberates with the sounds of Damian Lazarus. Join the Crosstown Rebels boss on a kaleidoscopic journey through the cosmic side of house and techno.   The cutting-edge sounds of our Saturday nights are redefining the clubbing experience.
URL:https://viptablesbodrum.com/event/black-coffee-13/
LOCATION:Pacha Nightclub\, Av. 8 d'Agost\, 07800 Eivissa\, Illes Balears\, Ibiza\, Spain
CATEGORIES:Music
ATTACH;FMTTYPE=image/jpeg:https://viptablesbodrum.com/wp-content/uploads/2023/07/6c2efc0626e18e13e7936af8cc06aa5cd4f65534-6000x4000-d14dcR.tmp_-scaled.jpg
END:VEVENT
BEGIN:VEVENT
DTSTART;TZID=UTC:20230909T230000
DTEND;TZID=UTC:20230909T230000
DTSTAMP:20260425T140447
CREATED:20230707T145109Z
LAST-MODIFIED:20230803T144752Z
UID:8059-1694300400-1694300400@viptablesbodrum.com
SUMMARY:elrow Amnesia
DESCRIPTION:elrow returns to Amnesia to celebrate its wildest and most creative year. The residency will start next Saturday May 27th and will continue until September 30th. 19 dates full of music\, shows\, fun and lots of confetti!
URL:https://viptablesbodrum.com/event/elrow-amnesia-13/
LOCATION:Amnesia\, Ctra. Ibiza a San Antonio\, Km 5\, 07816\, Ibiza\, Spain
CATEGORIES:Music
END:VEVENT
BEGIN:VEVENT
DTSTART;TZID=UTC:20230908T234500
DTEND;TZID=UTC:20230909T063000
DTSTAMP:20260425T140447
CREATED:20230710T123316Z
LAST-MODIFIED:20230803T144908Z
UID:8726-1694216700-1694241000@viptablesbodrum.com
SUMMARY:Pablo Fierro presents We're Here
DESCRIPTION:Founded by Pablo Fierro in 2019\, WE’RE HERE has become famous for hosting rip-roaring\, unforgettable parties the world over. After a sensational 2022 residency\, WE’RE HERE returns to Club Chinois from 26th May to 29th September\, bringing you cinematic visuals and exquisite sounds from around the globe.\nPablo Fierro is a globally lauded Spanish DJ and music producer known for his distinctive blend of house music\, jazz rhythm and soul-searing sounds. Hailing from the Canary Islands\, Fierro founded his own label\, Vida Records\, in 2006\, building the imprint to garner widespread recognition through its innovative sound and exceptional release roster. \nThis is an 18+ event
URL:https://viptablesbodrum.com/event/pablo-fierro-presents-were-here-13/
LOCATION:Club Chinois\, Passeig Joan Carles I\, 17\, 07800 Eivissa\, Illes Balears\, Ibiza\, Spain
CATEGORIES:Music
ATTACH;FMTTYPE=image/jpeg:https://viptablesbodrum.com/wp-content/uploads/2023/07/c62b4c93-df7e-494f-bdd5-fb41c9a6578c-zxQ66A.tmp_-scaled.jpg
END:VEVENT
BEGIN:VEVENT
DTSTART;TZID=UTC:20230908T233000
DTEND;TZID=UTC:20230908T233000
DTSTAMP:20260425T140447
CREATED:20230710T131405Z
LAST-MODIFIED:20230803T144909Z
UID:8860-1694215800-1694215800@viptablesbodrum.com
SUMMARY:David Guetta & Morten Present Future Rave
DESCRIPTION:GRAMMY-winner and global music kingpin David Guetta returns with more of the magic that made summer 2022 one of his best ever on the island.  The peerless Frenchman will host 18 weekly FUTURE RAVE dates\, every Friday from June 2nd\, joined by Danish DJ and Producer Morten for a selection of these dates.  Taking over the Club Room is Italian DJ collective Meduza\, the trio behind 5 global smash hits\, “Piece Of Your Heart”\, “Heart”\, “Lose Control”\, “Paradise”\, and more\,  and an artist that continues to light up dance floors around the world with tracks like “Ferrari” and “You Give Me A Feeling”
URL:https://viptablesbodrum.com/event/david-guetta-morten-present-future-rave-12/
LOCATION:Pacha Nightclub\, Av. 8 d'Agost\, 07800 Eivissa\, Illes Balears\, Ibiza\, Spain
CATEGORIES:Music
ATTACH;FMTTYPE=image/jpeg:https://viptablesbodrum.com/wp-content/uploads/2023/07/85bd4cb16ac1868509d9a6aca0bdb7338a982266-4800x6000-akaxzf.tmp_-scaled.jpg
END:VEVENT
BEGIN:VEVENT
DTSTART;TZID=UTC:20230908T230000
DTEND;TZID=UTC:20230908T230000
DTSTAMP:20260425T140447
CREATED:20230707T145108Z
LAST-MODIFIED:20230803T144909Z
UID:8058-1694214000-1694214000@viptablesbodrum.com
SUMMARY:HE.SHE.THEY.
DESCRIPTION:HE.SHE.THEY. will take over Amnesia with eight huge shows this summer. HE.SHE.THEY. carries one message\, “a place without prejudice\, where people can be people”. Everyone is welcome.
URL:https://viptablesbodrum.com/event/he-she-they-8/
LOCATION:Amnesia\, Ctra. Ibiza a San Antonio\, Km 5\, 07816\, Ibiza\, Spain
CATEGORIES:Music
END:VEVENT
BEGIN:VEVENT
DTSTART;TZID=UTC:20230907T234500
DTEND;TZID=UTC:20230908T063000
DTSTAMP:20260425T140447
CREATED:20230710T123118Z
LAST-MODIFIED:20230803T144910Z
UID:8725-1694130300-1694154600@viptablesbodrum.com
SUMMARY:Niiwa Residency
DESCRIPTION:NiiWA\, sounds of silk\, brings its soft caress to the beautiful newly refurbished Club Chinois every Thursday this summer opening on the 25th May.\nThe latest birth of a new project from the underground artistic movement Ritual Collective. Embodying the sounds of the underbelly of Berlin immersed in a dystopian theatrical step into an ancient future. \nPrepare to witness the new age of clubbing. \nThis is an 18+ event
URL:https://viptablesbodrum.com/event/niiwa-residency-13/
LOCATION:Club Chinois\, Passeig Joan Carles I\, 17\, 07800 Eivissa\, Illes Balears\, Ibiza\, Spain
CATEGORIES:Music
ATTACH;FMTTYPE=image/jpeg:https://viptablesbodrum.com/wp-content/uploads/2023/07/a98f6e76-8c52-40d5-bc42-8221ee688ff8-NmKKp0.tmp_.jpg
END:VEVENT
BEGIN:VEVENT
DTSTART;TZID=UTC:20230907T233000
DTEND;TZID=UTC:20230907T233000
DTSTAMP:20260425T140447
CREATED:20230710T131404Z
LAST-MODIFIED:20230803T144910Z
UID:8859-1694129400-1694129400@viptablesbodrum.com
SUMMARY:Tale Of Us Present Afterlife
DESCRIPTION:World-renowned duo Tale Of Us return to Hï Ibiza with their Afterlife residency\, kicking off on Thursday 22nd June. With cutting edge tailor-made production\, immersive visuals\, and top-level talents from across the house and techno spectrum\, the boundary-pushing event has defined the melodic techno landscape over the years\, and there is no more authentic place to experience it than their White Isle home at Hï Ibiza.  To close out the season\, Tale Of Us will present a day into night odyssey across Ushuaïa and Hï Ibiza for the final event on 5th October.
URL:https://viptablesbodrum.com/event/tale-of-us-present-afterlife-12/
LOCATION:Pacha Nightclub\, Av. 8 d'Agost\, 07800 Eivissa\, Illes Balears\, Ibiza\, Spain
CATEGORIES:Music
ATTACH;FMTTYPE=image/jpeg:https://viptablesbodrum.com/wp-content/uploads/2023/07/ecbb684527dd250c0e23c905276f3be4d50033b6-4800x6000-hY0c7u.tmp_-scaled.jpg
END:VEVENT
BEGIN:VEVENT
DTSTART;TZID=UTC:20230906T234500
DTEND;TZID=UTC:20230907T063000
DTSTAMP:20260425T140447
CREATED:20230710T123118Z
LAST-MODIFIED:20230803T144911Z
UID:8724-1694043900-1694068200@viptablesbodrum.com
SUMMARY:The Ritual with Anané and Louie Vega
DESCRIPTION:Gracing Club Chinois every Wednesday from 7th June and 4th October are Nominees and Grammy Winner Anané & Louie Vega. Cape Verdian DJ / Singer / Songwriter Anané Vega and Dj Louie Vega one half of production duo Masters At Work each bring cutting edge productions\, global dance music fused with afro house and tech with a sprinkle of old school. Creating their own scene and lane over the years in Ibiza and globally since 2011\, the powerhouse couple are ready to bring together their family of talented friends.\nThis is an 18+ event
URL:https://viptablesbodrum.com/event/the-ritual-with-anane-and-louie-vega-11/
LOCATION:Club Chinois\, Passeig Joan Carles I\, 17\, 07800 Eivissa\, Illes Balears\, Ibiza\, Spain
CATEGORIES:Music
ATTACH;FMTTYPE=image/jpeg:https://viptablesbodrum.com/wp-content/uploads/2023/07/f3404232-a0ac-4217-94c1-309df209b15b-JwmxOU.tmp_-scaled.jpg
END:VEVENT
BEGIN:VEVENT
DTSTART;TZID=UTC:20230906T233000
DTEND;TZID=UTC:20230906T233000
DTSTAMP:20260425T140447
CREATED:20230710T131403Z
LAST-MODIFIED:20230803T144911Z
UID:8858-1694043000-1694043000@viptablesbodrum.com
SUMMARY:FISHER
DESCRIPTION:After a pioneering residency last season that pulled record numbers of visitors from around the globe\, FISHER returns once again\, to make his home at Hï Ibiza every Wednesday.  Also returning this year is the Brazilian heavyweight Vintage Culture\, who hosts the Club room for a second year running  Opening June 7th for 17 weeks\, the dream team pairing will take over the Theatre and Club room respectively.
URL:https://viptablesbodrum.com/event/fisher-13/
LOCATION:Pacha Nightclub\, Av. 8 d'Agost\, 07800 Eivissa\, Illes Balears\, Ibiza\, Spain
CATEGORIES:Music
ATTACH;FMTTYPE=image/jpeg:https://viptablesbodrum.com/wp-content/uploads/2023/07/5b0efc634095cd9cc2eda86553e28c039f4f9eb8-6000x4000-oeRGs3.tmp_-scaled.jpg
END:VEVENT
BEGIN:VEVENT
DTSTART;TZID=UTC:20230906T223000
DTEND;TZID=UTC:20230906T223000
DTSTAMP:20260425T140447
CREATED:20230707T145108Z
LAST-MODIFIED:20230803T144911Z
UID:8057-1694039400-1694039400@viptablesbodrum.com
SUMMARY:Paradise at Amnesia
DESCRIPTION:Paradise presents Night of The Jaguar… where the jungle comes alive this season with its world of vibrant acid hued wildlife and supernatural night visions. Join Jamie Jones plus a host of artists every Wednesday at Amnesia.
URL:https://viptablesbodrum.com/event/paradise-at-amnesia-12/
LOCATION:Amnesia\, Ctra. Ibiza a San Antonio\, Km 5\, 07816\, Ibiza\, Spain
CATEGORIES:Music
END:VEVENT
BEGIN:VEVENT
DTSTART;TZID=UTC:20230905T234500
DTEND;TZID=UTC:20230906T063000
DTSTAMP:20260425T140447
CREATED:20230710T123117Z
LAST-MODIFIED:20230803T144912Z
UID:8723-1693957500-1693981800@viptablesbodrum.com
SUMMARY:Ida Engberg presents Mystik
DESCRIPTION:Ida Engberg is back every Tuesday at Club Chinois for a 18-week residency after the success of 2022. We’re pleased to announce this will make Ida the first female to have a full Summer residency with her own brand in the history of Ibiza.\nEach week expect exciting line-ups\, world-class acts and entertainment led by Ida. \nThis is an 18+ event
URL:https://viptablesbodrum.com/event/ida-engberg-presents-mystik-12/
LOCATION:Club Chinois\, Passeig Joan Carles I\, 17\, 07800 Eivissa\, Illes Balears\, Ibiza\, Spain
CATEGORIES:Music
ATTACH;FMTTYPE=image/jpeg:https://viptablesbodrum.com/wp-content/uploads/2023/07/880953e0-321e-4064-995d-da0a2bead48c-DRgAXE.tmp_.jpg
END:VEVENT
BEGIN:VEVENT
DTSTART;TZID=UTC:20230905T233000
DTEND;TZID=UTC:20230905T233000
DTSTAMP:20260425T140447
CREATED:20230710T131403Z
LAST-MODIFIED:20230803T144912Z
UID:8857-1693956600-1693956600@viptablesbodrum.com
SUMMARY:The Martinez Brothers
DESCRIPTION:The Martinez Brothers return to the Theatre on Tuesdays for their second season bringing their distinctive New York house sound for this pioneering residency. There is no finer night to experience the freshest house cuts and world-class special guests on the island.  Spanish techno figurehead Paco Osuna resumes his vibrant Club room residency. The cutting-edge techno selections of Paco and his respected special guests create a new blueprint for a more sophisticated side of electronic music.  Tuesday nights at Hï Ibiza celebrate the forefront of house and techno.
URL:https://viptablesbodrum.com/event/the-martinez-brothers-12/
LOCATION:Pacha Nightclub\, Av. 8 d'Agost\, 07800 Eivissa\, Illes Balears\, Ibiza\, Spain
CATEGORIES:Music
ATTACH;FMTTYPE=image/jpeg:https://viptablesbodrum.com/wp-content/uploads/2023/07/a30ad4f8ff56ce6242205f16dfe6b077346391fd-6000x4000-RBLQrK.tmp_-scaled.jpg
END:VEVENT
END:VCALENDAR