BEGIN:VCALENDAR
VERSION:2.0
PRODID:-//VIP Tables Bodrum - ECPv6.15.18//NONSGML v1.0//EN
CALSCALE:GREGORIAN
METHOD:PUBLISH
X-WR-CALNAME:VIP Tables Bodrum
X-ORIGINAL-URL:https://viptablesbodrum.com
X-WR-CALDESC:Events for VIP Tables Bodrum
REFRESH-INTERVAL;VALUE=DURATION:PT1H
X-Robots-Tag:noindex
X-PUBLISHED-TTL:PT1H
BEGIN:VTIMEZONE
TZID:UTC
BEGIN:STANDARD
TZOFFSETFROM:+0000
TZOFFSETTO:+0000
TZNAME:UTC
DTSTART:20220101T000000
END:STANDARD
END:VTIMEZONE
BEGIN:VEVENT
DTSTART;VALUE=DATE:20240204
DTEND;VALUE=DATE:20240205
DTSTAMP:20260425T032553
CREATED:20230731T105246Z
LAST-MODIFIED:20230731T105246Z
UID:9521-1707004800-1707091199@viptablesbodrum.com
SUMMARY:White Turf International Horse Races
DESCRIPTION:Held since 1907\, the White Turf International Horse Races has attracted business tycoons and socialites alike for over a century. The invitation-only event features horse racing on St Moritz frozen lakes\, as well as other sports such as skijoring. Skijoring? Don’t worry we had to google it too—just picture thoroughbreds galloping across a frozen lake and attached to them are humans on skis.
URL:https://viptablesbodrum.com/event/white-turf-international-horse-races/
LOCATION:Lake of St. Moritz\, Saint Moritz\, Switzerland
CATEGORIES:Sports
END:VEVENT
BEGIN:VEVENT
DTSTART;VALUE=DATE:20240126
DTEND;VALUE=DATE:20240129
DTSTAMP:20260425T032553
CREATED:20230731T104724Z
LAST-MODIFIED:20230731T104740Z
UID:9516-1706227200-1706486399@viptablesbodrum.com
SUMMARY:St. Moritz Polo World Cup on Snow
DESCRIPTION:A favorite amongst royals\, Polo has always been an elite sport. But couple that with St Moritz’s opulent Alpine resorts and it’s no surprise that you’ll find many of the world’s richest people sipping on Perrier-Jouët champagne beneath the Swiss slopes. And besides enjoying the sport\, gourmet food selections\, exclusive social events\, and five-star resorts are the ordre du jour.
URL:https://viptablesbodrum.com/event/st-moritz-polo-world-cup-on-snow/
LOCATION:Lake of St. Moritz\, Saint Moritz\, Switzerland
CATEGORIES:Sports
END:VEVENT
BEGIN:VEVENT
DTSTART;VALUE=DATE:20231126
DTEND;VALUE=DATE:20231127
DTSTAMP:20260425T032553
CREATED:20230504T105639Z
LAST-MODIFIED:20230707T145742Z
UID:4387-1700956800-1701043199@viptablesbodrum.com
SUMMARY:Abu Dhabi Grand Prix
DESCRIPTION:The Abu Dhabi Grand Prix is a Formula One motor racing event. It was announced in early 2007 at the Abu Dhabi F1 Festival in the United Arab Emirates.
URL:https://viptablesbodrum.com/event/abu-dhabi-grand-prix/
CATEGORIES:Grand Prix,Hospitality,Sports
ATTACH;FMTTYPE=image/jpeg:https://viptablesbodrum.com/wp-content/uploads/2023/05/NMQFL3RNW5OKTJ75UAOBTBLNL4.jpg
END:VEVENT
BEGIN:VEVENT
DTSTART;VALUE=DATE:20231118
DTEND;VALUE=DATE:20231119
DTSTAMP:20260425T032553
CREATED:20230504T105518Z
LAST-MODIFIED:20230707T145742Z
UID:4384-1700265600-1700351999@viptablesbodrum.com
SUMMARY:Las Vegas Grand Prix
DESCRIPTION:The Las Vegas Grand Prix is a planned Formula One Grand Prix due to form part of the 2023 Formula One World Championship\, with the event taking place in Las Vegas\, Nevada\, on a temporary street circuit including the Las Vegas Strip.
URL:https://viptablesbodrum.com/event/las-vegas-grand-prix/
CATEGORIES:Grand Prix,Hospitality,paddock,Sports
END:VEVENT
BEGIN:VEVENT
DTSTART;VALUE=DATE:20231105
DTEND;VALUE=DATE:20231106
DTSTAMP:20260425T032553
CREATED:20230504T105355Z
LAST-MODIFIED:20230707T145743Z
UID:4381-1699142400-1699228799@viptablesbodrum.com
SUMMARY:Brazil Grand Prix
DESCRIPTION:The Brazilian Grand Prix\, currently held under the name São Paulo Grand Prix\, is a Formula One championship race which is currently held at the Autódromo José Carlos Pace in Interlagos neighbourhood\, Cidade Dutra\, São Paulo.
URL:https://viptablesbodrum.com/event/brazil-grand-prix/
CATEGORIES:Sports
END:VEVENT
BEGIN:VEVENT
DTSTART;VALUE=DATE:20231029
DTEND;VALUE=DATE:20231030
DTSTAMP:20260425T032553
CREATED:20230504T105234Z
LAST-MODIFIED:20230707T145743Z
UID:4378-1698537600-1698623999@viptablesbodrum.com
SUMMARY:Mexico Grand Prix
DESCRIPTION:The Mexican Grand Prix\, currently held under the name Mexico City Grand Prix\, is a motor racing event held at the Autódromo Hermanos Rodríguez in Mexico City.
URL:https://viptablesbodrum.com/event/mexico-grand-prix/
CATEGORIES:Sports
END:VEVENT
BEGIN:VEVENT
DTSTART;VALUE=DATE:20231022
DTEND;VALUE=DATE:20231023
DTSTAMP:20260425T032553
CREATED:20230504T105052Z
LAST-MODIFIED:20230707T145744Z
UID:4375-1697932800-1698019199@viptablesbodrum.com
SUMMARY:USA Grand Prix
DESCRIPTION:The United States Grand Prix is a motor racing event that has been held on and off since 1908\, when it was known as the American Grand Prize.
URL:https://viptablesbodrum.com/event/usa-grand-prix/
CATEGORIES:Sports
END:VEVENT
BEGIN:VEVENT
DTSTART;VALUE=DATE:20231008
DTEND;VALUE=DATE:20231009
DTSTAMP:20260425T032553
CREATED:20230504T104832Z
LAST-MODIFIED:20230707T145744Z
UID:4372-1696723200-1696809599@viptablesbodrum.com
SUMMARY:Qatar Grand Prix
DESCRIPTION:The Qatar Grand Prix is a Formula One motor racing event which is held in Qatar.
URL:https://viptablesbodrum.com/event/qatar-grand-prix/
CATEGORIES:Sports
END:VEVENT
BEGIN:VEVENT
DTSTART;VALUE=DATE:20230924
DTEND;VALUE=DATE:20230925
DTSTAMP:20260425T032553
CREATED:20230504T104648Z
LAST-MODIFIED:20230707T145744Z
UID:4369-1695513600-1695599999@viptablesbodrum.com
SUMMARY:Japan Grand Prix
DESCRIPTION:The Japanese Grand Prix is a motor racing event in the calendar of the Formula One World Championship.
URL:https://viptablesbodrum.com/event/japan-grand-prix/
CATEGORIES:Sports
END:VEVENT
BEGIN:VEVENT
DTSTART;VALUE=DATE:20230917
DTEND;VALUE=DATE:20230918
DTSTAMP:20260425T032553
CREATED:20230504T104525Z
LAST-MODIFIED:20230707T145745Z
UID:4366-1694908800-1694995199@viptablesbodrum.com
SUMMARY:Singapore Grand Prix
DESCRIPTION:The Singapore Grand Prix is a motor racing event which forms part of the Formula One World Championship. The event takes place on the Marina Bay Street Circuit and was the inaugural night race and first street circuit in Asia designed for Formula One races.
URL:https://viptablesbodrum.com/event/singapore-grand-prix/
CATEGORIES:Sports
END:VEVENT
BEGIN:VEVENT
DTSTART;VALUE=DATE:20230903
DTEND;VALUE=DATE:20230904
DTSTAMP:20260425T032553
CREATED:20230504T104417Z
LAST-MODIFIED:20230707T145745Z
UID:4363-1693699200-1693785599@viptablesbodrum.com
SUMMARY:Italy Grand Prix
DESCRIPTION:The Italian Grand Prix is the fifth oldest national Grand Prix\, having been held since 1921. In 2013 it became the most held Grand Prix. It is one of the two Grands Prix which has run as an event of the Formula One World Championship Grands Prix every season\, continuously since the championship was introduced in 1950.
URL:https://viptablesbodrum.com/event/italy-grand-prix/
CATEGORIES:Sports
END:VEVENT
BEGIN:VEVENT
DTSTART;VALUE=DATE:20230827
DTEND;VALUE=DATE:20230828
DTSTAMP:20260425T032553
CREATED:20230504T104244Z
LAST-MODIFIED:20230707T145745Z
UID:4360-1693094400-1693180799@viptablesbodrum.com
SUMMARY:Dutch Grand Prix
DESCRIPTION:The Dutch Grand Prix is a Formula One motor racing event held at Circuit Zandvoort\, North Holland\, the Netherlands\, from 1950 to 1985 and from 2021 onwards.
URL:https://viptablesbodrum.com/event/dutch-grand-prix/
CATEGORIES:Sports
END:VEVENT
BEGIN:VEVENT
DTSTART;VALUE=DATE:20230730
DTEND;VALUE=DATE:20230731
DTSTAMP:20260425T032553
CREATED:20230504T104119Z
LAST-MODIFIED:20230707T145739Z
UID:4357-1690675200-1690761599@viptablesbodrum.com
SUMMARY:Belgium Grand Prix
DESCRIPTION:The Belgian Grand Prix is a motor racing event which forms part of the Formula One World Championship. The first national race of Belgium was held in 1925 at the Spa region’s race course\, an area of the country that had been associated with motor sport since the very early years of racing.
URL:https://viptablesbodrum.com/event/belgium-grand-prix/
CATEGORIES:Sports
END:VEVENT
BEGIN:VEVENT
DTSTART;VALUE=DATE:20230723
DTEND;VALUE=DATE:20230724
DTSTAMP:20260425T032553
CREATED:20230504T103845Z
LAST-MODIFIED:20230707T145740Z
UID:4354-1690070400-1690156799@viptablesbodrum.com
SUMMARY:Hungary Grand Prix
DESCRIPTION:The Hungarian Grand Prix is a motor racing event held annually in Mogyoród. Since 1986\, the race has been a round of the FIA Formula One World Championship.
URL:https://viptablesbodrum.com/event/hungary-grand-prix/
CATEGORIES:Sports
END:VEVENT
BEGIN:VEVENT
DTSTART;VALUE=DATE:20230709
DTEND;VALUE=DATE:20230710
DTSTAMP:20260425T032553
CREATED:20230504T103618Z
LAST-MODIFIED:20230707T145740Z
UID:4351-1688860800-1688947199@viptablesbodrum.com
SUMMARY:Silverstone Grand Prix
DESCRIPTION:The British Grand Prix is a Grand Prix motor race organised in the United Kingdom by the Royal Automobile Club.
URL:https://viptablesbodrum.com/event/silverstone-grand-prix/
CATEGORIES:Sports
END:VEVENT
BEGIN:VEVENT
DTSTART;VALUE=DATE:20230702
DTEND;VALUE=DATE:20230703
DTSTAMP:20260425T032553
CREATED:20230504T103403Z
LAST-MODIFIED:20230707T145741Z
UID:4348-1688256000-1688342399@viptablesbodrum.com
SUMMARY:Austria Grand Prix
DESCRIPTION:The Austrian Grand Prix is a Fédération Internationale de l’Automobile sanctioned motor racing event that was held in 1964\, 1970–1987\, 1997–2003\, and then returned to the Formula One calendar in 2014.
URL:https://viptablesbodrum.com/event/austria-grand-prix/
CATEGORIES:Sports
END:VEVENT
BEGIN:VEVENT
DTSTART;VALUE=DATE:20230618
DTEND;VALUE=DATE:20230619
DTSTAMP:20260425T032553
CREATED:20230504T103122Z
LAST-MODIFIED:20230707T145741Z
UID:4345-1687046400-1687132799@viptablesbodrum.com
SUMMARY:Canada Grand Prix
DESCRIPTION:The Canadian Grand Prix is an annual motor racing event held since 1961. It has been part of the Formula One World Championship since 1967.
URL:https://viptablesbodrum.com/event/canada-grand-prix/
CATEGORIES:Sports
END:VEVENT
BEGIN:VEVENT
DTSTART;VALUE=DATE:20230604
DTEND;VALUE=DATE:20230605
DTSTAMP:20260425T032553
CREATED:20230504T102840Z
LAST-MODIFIED:20230707T145808Z
UID:4342-1685836800-1685923199@viptablesbodrum.com
SUMMARY:Spanish Grand Prix
DESCRIPTION:The Spanish Grand Prix is a Formula One motor racing event currently held at the Circuit de Barcelona-Catalunya.
URL:https://viptablesbodrum.com/event/spanish-grand-prix/
CATEGORIES:Sports
END:VEVENT
BEGIN:VEVENT
DTSTART;VALUE=DATE:20230528
DTEND;VALUE=DATE:20230529
DTSTAMP:20260425T032553
CREATED:20230504T102640Z
LAST-MODIFIED:20230707T145809Z
UID:4339-1685232000-1685318399@viptablesbodrum.com
SUMMARY:Monaco Grand Prix
DESCRIPTION:The Monaco Grand Prix is a Formula One motor racing event held annually on the Circuit de Monaco\, in late May or early June.
URL:https://viptablesbodrum.com/event/monaco-grand-prix/
CATEGORIES:Sports
ATTACH;FMTTYPE=image/png:https://viptablesbodrum.com/wp-content/uploads/2023/05/PADDOCK-CLUB-ACCESS-1.png
END:VEVENT
BEGIN:VEVENT
DTSTART;VALUE=DATE:20230521
DTEND;VALUE=DATE:20230522
DTSTAMP:20260425T032553
CREATED:20230504T102229Z
LAST-MODIFIED:20230707T145748Z
UID:4336-1684627200-1684713599@viptablesbodrum.com
SUMMARY:Imola Grand Prix
DESCRIPTION:The Emilia Romagna Grand Prix is a Formula One motor racing event held at the Autodromo Internazionale Enzo e Dino Ferrari\, often referred to as “Imola” after the town where it is located. The event takes the name “Emilia-Romagna” from the Italian region where the circuit is located.
URL:https://viptablesbodrum.com/event/imola-grand-prix/
CATEGORIES:Sports
END:VEVENT
BEGIN:VEVENT
DTSTART;VALUE=DATE:20230507
DTEND;VALUE=DATE:20230508
DTSTAMP:20260425T032553
CREATED:20230504T101958Z
LAST-MODIFIED:20230707T145808Z
UID:4333-1683417600-1683503999@viptablesbodrum.com
SUMMARY:Miami Grand Prix
DESCRIPTION:The 2023 Miami Grand Prix is a Formula One motor race scheduled to be held on May 7\, 2023\, at the Miami International Autodrome in Miami Gardens\, Florida.
URL:https://viptablesbodrum.com/event/miami-grand-prix/
CATEGORIES:Sports
END:VEVENT
BEGIN:VEVENT
DTSTART;VALUE=DATE:20230428
DTEND;VALUE=DATE:20230501
DTSTAMP:20260425T032553
CREATED:20230105T105255Z
LAST-MODIFIED:20230707T145747Z
UID:2843-1682640000-1682899199@viptablesbodrum.com
SUMMARY:Azerbaijan Grand Prix
DESCRIPTION:
URL:https://viptablesbodrum.com/event/azerbaijan-grand-prix/
CATEGORIES:Sports
END:VEVENT
BEGIN:VEVENT
DTSTART;VALUE=DATE:20230331
DTEND;VALUE=DATE:20230403
DTSTAMP:20260425T032553
CREATED:20230105T103816Z
LAST-MODIFIED:20230707T145747Z
UID:2817-1680220800-1680479999@viptablesbodrum.com
SUMMARY:Australian Grand Prix
DESCRIPTION:
URL:https://viptablesbodrum.com/event/australian-grand-prix/
CATEGORIES:Sports
END:VEVENT
BEGIN:VEVENT
DTSTART;VALUE=DATE:20230317
DTEND;VALUE=DATE:20230320
DTSTAMP:20260425T032553
CREATED:20230105T103412Z
LAST-MODIFIED:20230707T145746Z
UID:2805-1679011200-1679270399@viptablesbodrum.com
SUMMARY:Saudi Arabia Grand Prix
DESCRIPTION:
URL:https://viptablesbodrum.com/event/saudi-arabia-grand-prix/
CATEGORIES:Sports
END:VEVENT
BEGIN:VEVENT
DTSTART;VALUE=DATE:20230303
DTEND;VALUE=DATE:20230306
DTSTAMP:20260425T032553
CREATED:20230105T102439Z
LAST-MODIFIED:20230707T145746Z
UID:2784-1677801600-1678060799@viptablesbodrum.com
SUMMARY:Bahrain Grand Prix
DESCRIPTION:
URL:https://viptablesbodrum.com/event/bahrain-grand-prix/
CATEGORIES:Sports
END:VEVENT
END:VCALENDAR