BEGIN:VCALENDAR
VERSION:2.0
PRODID:-//VIP Tables Bodrum - ECPv6.15.18//NONSGML v1.0//EN
CALSCALE:GREGORIAN
METHOD:PUBLISH
X-WR-CALNAME:VIP Tables Bodrum
X-ORIGINAL-URL:https://viptablesbodrum.com
X-WR-CALDESC:Events for VIP Tables Bodrum
REFRESH-INTERVAL;VALUE=DURATION:PT1H
X-Robots-Tag:noindex
X-PUBLISHED-TTL:PT1H
BEGIN:VTIMEZONE
TZID:UTC
BEGIN:STANDARD
TZOFFSETFROM:+0000
TZOFFSETTO:+0000
TZNAME:UTC
DTSTART:20220101T000000
END:STANDARD
END:VTIMEZONE
BEGIN:VEVENT
DTSTART;VALUE=DATE:20241206
DTEND;VALUE=DATE:20241209
DTSTAMP:20260425T001419
CREATED:20230801T115214Z
LAST-MODIFIED:20230801T115227Z
UID:9659-1733443200-1733702399@viptablesbodrum.com
SUMMARY:La Scala Opera House Opening Night
DESCRIPTION:La Scala is a famous opera house in Milan\, Italy. Originally known as the Nuovo Regio Ducale Teatro alla Scala\, the theater was inaugurated in 1778. La Scala’s season opens on 7 December on the feast day of Milan’s patron saint\, Saint Ambrose. Traditionally\, all performances must end before midnight\, meaning that longer operas have to start earlier. Although tickets are made available to everyone\, the Royal Box is reserved for the elite.
URL:https://viptablesbodrum.com/event/la-scala-opera-house-opening-night/
LOCATION:Teatro alla Scala\, Via Filodrammatici\, 2\, 20121\, Milano\, Italy
CATEGORIES:Entertainment
END:VEVENT
BEGIN:VEVENT
DTSTART;VALUE=DATE:20240827
DTEND;VALUE=DATE:20240831
DTSTAMP:20260425T001419
CREATED:20230801T111524Z
LAST-MODIFIED:20230801T111531Z
UID:9639-1724716800-1725062399@viptablesbodrum.com
SUMMARY:Monaco Yacht Show
DESCRIPTION:If you’re looking to upsize your superyacht\, the Monaco Yacht Show is the place to go. The Monaco Yacht Show showcases exceptional superyachts\, with over 40 new models unveiled. The annual trade show is held at the iconic Port Hercules. And as one of the most exclusive events\, the four-day show is an invite-only affair.
URL:https://viptablesbodrum.com/event/monaco-yacht-show/
LOCATION:Port Hercule\, Monaco
CATEGORIES:Entertainment
END:VEVENT
BEGIN:VEVENT
DTSTART;VALUE=DATE:20240827
DTEND;VALUE=DATE:20240830
DTSTAMP:20260425T001419
CREATED:20230801T111007Z
LAST-MODIFIED:20230801T111016Z
UID:9634-1724716800-1724975999@viptablesbodrum.com
SUMMARY:Venice International Film Festival
DESCRIPTION:As the oldest film festival in the world\, the Venice International Film Festival is the perfect excuse to sail your superyacht into Italy. The 80th festival will take place in August 2023. And whilst many screenings are open to the public\, it’s the discreet private affairs that will attract industry stars and film-loving billionaires.
URL:https://viptablesbodrum.com/event/venice-international-film-festival/
LOCATION:the island of the Lido\, Venice\, Italy
CATEGORIES:Entertainment
END:VEVENT
BEGIN:VEVENT
DTSTART;VALUE=DATE:20240615
DTEND;VALUE=DATE:20240616
DTSTAMP:20260425T001419
CREATED:20230731T123036Z
LAST-MODIFIED:20230731T123046Z
UID:9578-1718409600-1718495999@viptablesbodrum.com
SUMMARY:Glyndebourne Opera Festival
DESCRIPTION:There’s nothing more sophisticated than getting all dressed up to attend the Opera Festival at the historical Glyndebourne manor house. Founded in 1934 by John Christie and his wife Audrey Mildmay\, Glyndebourne Opera Festival is known for its high production values and for its performances of lesser-known operas. Performed in the picturesque countryside gardens\, the festival is a throwback to old-school high society\, making it a hotspot for affluent guests.
URL:https://viptablesbodrum.com/event/glyndebourne-opera-festival/
LOCATION:Lewes station\, Station Rd\, Lewes\, United Kingdom
CATEGORIES:Arts,Entertainment
END:VEVENT
BEGIN:VEVENT
DTSTART;VALUE=DATE:20240517
DTEND;VALUE=DATE:20240520
DTSTAMP:20260425T001419
CREATED:20230731T122156Z
LAST-MODIFIED:20230731T122203Z
UID:9573-1715904000-1716163199@viptablesbodrum.com
SUMMARY:Concorso d’Eleganza Villa d’Este Car Show
DESCRIPTION:The Concorso d’Eleganza Villa d’Este Car Show is an annual car show held in the quaint Italian town\, Cernobbio located on the shores of Lake Como. It began as a beauty contest for cars in 1929 and showcases some of the world’s finest classic and concept cars from leading automotive manufacturers. Today\, the glamorous event is organized by BMW Group\, attracting deep-pocketed celebrities and automobile enthusiasts alike.
URL:https://viptablesbodrum.com/event/concorso-deleganza-villa-deste-car-show/
LOCATION:Lake Como\, Italy
CATEGORIES:Entertainment
END:VEVENT
BEGIN:VEVENT
DTSTART;VALUE=DATE:20240514
DTEND;VALUE=DATE:20240526
DTSTAMP:20260425T001420
CREATED:20230731T121724Z
LAST-MODIFIED:20230731T121815Z
UID:9568-1715644800-1716681599@viptablesbodrum.com
SUMMARY:Cannes Film Festival
DESCRIPTION:Held since 1946\, the Cannes Film Festival is one of the most prestigious events in the film industry. Showcasing and awarding new films from around the world\, it is held annually in May at the Palais des Festivals et des Congrès in the French Riviera town of Cannes. And reserved primarily for film industry professionals\, you have to be someone to receive an invite. Cue: the lineup of Hollywood A-listers and some of the biggest names in international cinema.
URL:https://viptablesbodrum.com/event/cannes-film-festival/
LOCATION:Palais des Festivals et des Congrès\, 1 Bd de la Croisette\, Cannes\, France
CATEGORIES:Entertainment
END:VEVENT
BEGIN:VEVENT
DTSTART;VALUE=DATE:20240501
DTEND;VALUE=DATE:20240502
DTSTAMP:20260425T001420
CREATED:20230731T121344Z
LAST-MODIFIED:20230731T121352Z
UID:9563-1714521600-1714607999@viptablesbodrum.com
SUMMARY:Met Gala
DESCRIPTION:Known as “fashion’s biggest night out” many of us wait in eager anticipation to see who wears what. But more than just exquisite gowns\, the Met Gala is an annual fundraising event for the Metropolitan Museum of Art’s Costume Institute in New York City. As one of the most exclusive events\, it brings together celebrities from the worlds of fashion\, film\, music and art—as well as tech billionaires.
URL:https://viptablesbodrum.com/event/met-gala/
LOCATION:Metropolitan Museum of Art\, 1000 5th Ave\, New York\, United States
CATEGORIES:Entertainment
END:VEVENT
BEGIN:VEVENT
DTSTART;VALUE=DATE:20240422
DTEND;VALUE=DATE:20240426
DTSTAMP:20260425T001420
CREATED:20230731T121007Z
LAST-MODIFIED:20230731T121014Z
UID:9558-1713744000-1714089599@viptablesbodrum.com
SUMMARY:Singapore Yacht Show
DESCRIPTION:Life is pretty plain sailing when you’re a billionaire. You buy one of the largest yachts in the world. And then you show it off at the Singapore Yacht Show. Celebrating the yachting lifestyle in a scintillating setting\, the four-day event is attended by more than 16\,000 with VIP areas for the elite of the elite.
URL:https://viptablesbodrum.com/event/singapore-yacht-show/
LOCATION:ONE°15 Marina Club\, 11 Cove Drive\, Sentosa Cove\, Singapore
CATEGORIES:Entertainment
END:VEVENT
BEGIN:VEVENT
DTSTART;VALUE=DATE:20240418
DTEND;VALUE=DATE:20240421
DTSTAMP:20260425T001420
CREATED:20230801T112351Z
LAST-MODIFIED:20230801T112829Z
UID:9644-1713398400-1713657599@viptablesbodrum.com
SUMMARY:Salon Prive Supercar Show
DESCRIPTION:Salon Prive is the place to be seen for automobile aficionados and billionaires alike. The prestigious event invites guests to meander through pristine lawns\, converse with the top manufacturers and test-drive the latest supercar models. The event takes place over four days in September. And set against the scintillating backdrop of the historic Blenheim Palace in Oxfordshire\, it epitomizes elegance and class.
URL:https://viptablesbodrum.com/event/salon-prive-supercar-show/
LOCATION:Salon Privé\, Royal Hospital Road\, London\, United Kingdom
CATEGORIES:Entertainment,Sports
END:VEVENT
BEGIN:VEVENT
DTSTART;VALUE=DATE:20240211
DTEND;VALUE=DATE:20240212
DTSTAMP:20260425T001420
CREATED:20230731T110013Z
LAST-MODIFIED:20230731T110019Z
UID:9528-1707609600-1707695999@viptablesbodrum.com
SUMMARY:Super Bowl
DESCRIPTION:A favorite amongst Jay Z\, the Biebers and Charlize Theron\, the Super Bowl is a major event for many. And whilst the tickets are pricey by nature\, the championship NFL game is less about exclusivity and more about joining in the vibe. Yes\, some billionaires take to their private suites. But many sit in the stadium with the rest of us—oversized hoodies and all.
URL:https://viptablesbodrum.com/event/super-bowl/
LOCATION:Allegiant Stadium\, 3333 Al Davis Way\, Las Vegas\, United States
CATEGORIES:Entertainment
END:VEVENT
BEGIN:VEVENT
DTSTART;VALUE=DATE:20240208
DTEND;VALUE=DATE:20240209
DTSTAMP:20260425T001420
CREATED:20230731T110820Z
LAST-MODIFIED:20230731T111221Z
UID:9533-1707350400-1707436799@viptablesbodrum.com
SUMMARY:Vienna Opera Ball
DESCRIPTION:The Vienna Opera Ball is one of the most glamorous balls of the season. Paying homage to centuries of tradition\, the dress code is strictly white tie and tails for men and floor-length gowns for women. After the debutantes’ iconic dance\, the dance floor is open to everyone until 5 o’clock in the morning.
URL:https://viptablesbodrum.com/event/vienna-opera-ball/
LOCATION:Vienna State Opera House\, Opernring 2\, 1010 Wien\, Austria
CATEGORIES:Entertainment
END:VEVENT
BEGIN:VEVENT
DTSTART;VALUE=DATE:20240118
DTEND;VALUE=DATE:20240129
DTSTAMP:20260425T001420
CREATED:20230731T103456Z
LAST-MODIFIED:20230731T103505Z
UID:9510-1705536000-1706486399@viptablesbodrum.com
SUMMARY:Sundance Film Festival
DESCRIPTION:Whether you’re a director\, actor or just someone with cash lying around\, the Sundance Film Festival is a great opportunity to mingle with A-listers and celebrate film. Naturally\, you’ll find the rich and famous at the celebrity lounges\, partying with the who’s who in the industry and attending exclusive night screenings.
URL:https://viptablesbodrum.com/event/sundance-film-festival/
LOCATION:Sundance Resort\, Park City\, Utah\, United States
CATEGORIES:Entertainment
END:VEVENT
BEGIN:VEVENT
DTSTART;VALUE=DATE:20230801
DTEND;VALUE=DATE:20230802
DTSTAMP:20260425T001420
CREATED:20230801T120236Z
LAST-MODIFIED:20230801T120247Z
UID:9669-1690848000-1690934399@viptablesbodrum.com
SUMMARY:St. Bart’s New Year’s Eve Celebrations
DESCRIPTION:St Barts certainly isn’t the largest island in the world\, but it probably has the highest density of celebrity-chartered superyachts—especially over New Year’s Eve. With a plethora of rejuvenating spas\, five-star restaurants\, clean white sands\, and crystal clear waters\, we don’t blame the rich and famous for choosing the Caribbean island to bring in the new year.
URL:https://viptablesbodrum.com/event/st-barts-new-years-eve-celebrations/
LOCATION:Rue de la France\, Gustavia\, Saint Barthélemy
CATEGORIES:Entertainment
END:VEVENT
END:VCALENDAR